BEGIN:VCALENDAR
VERSION:2.0
PRODID:-//Stadtkapelle Oberndorf - ECPv6.15.13//NONSGML v1.0//EN
CALSCALE:GREGORIAN
METHOD:PUBLISH
X-WR-CALNAME:Stadtkapelle Oberndorf
X-ORIGINAL-URL:https://www.stadtkapelle-oberndorf.at
X-WR-CALDESC:Veranstaltungen für Stadtkapelle Oberndorf
REFRESH-INTERVAL;VALUE=DURATION:PT1H
X-Robots-Tag:noindex
X-PUBLISHED-TTL:PT1H
BEGIN:VTIMEZONE
TZID:Europe/Berlin
BEGIN:DAYLIGHT
TZOFFSETFROM:+0100
TZOFFSETTO:+0200
TZNAME:CEST
DTSTART:20180325T010000
END:DAYLIGHT
BEGIN:STANDARD
TZOFFSETFROM:+0200
TZOFFSETTO:+0100
TZNAME:CET
DTSTART:20181028T010000
END:STANDARD
BEGIN:DAYLIGHT
TZOFFSETFROM:+0100
TZOFFSETTO:+0200
TZNAME:CEST
DTSTART:20190331T010000
END:DAYLIGHT
BEGIN:STANDARD
TZOFFSETFROM:+0200
TZOFFSETTO:+0100
TZNAME:CET
DTSTART:20191027T010000
END:STANDARD
BEGIN:DAYLIGHT
TZOFFSETFROM:+0100
TZOFFSETTO:+0200
TZNAME:CEST
DTSTART:20200329T010000
END:DAYLIGHT
BEGIN:STANDARD
TZOFFSETFROM:+0200
TZOFFSETTO:+0100
TZNAME:CET
DTSTART:20201025T010000
END:STANDARD
END:VTIMEZONE
BEGIN:VEVENT
DTSTART;TZID=Europe/Berlin:20190601T000000
DTEND;TZID=Europe/Berlin:20190601T235900
DTSTAMP:20260423T065940
CREATED:20190125T200742Z
LAST-MODIFIED:20190403T173843Z
UID:77-1559347200-1559433540@www.stadtkapelle-oberndorf.at
SUMMARY:Musikfest Strobl
DESCRIPTION:
URL:https://www.stadtkapelle-oberndorf.at/event/musikfest-strobl/
END:VEVENT
BEGIN:VEVENT
DTSTART;TZID=Europe/Berlin:20190602T000000
DTEND;TZID=Europe/Berlin:20190602T235900
DTSTAMP:20260423T065940
CREATED:20190125T200742Z
LAST-MODIFIED:20190403T173903Z
UID:78-1559433600-1559519940@www.stadtkapelle-oberndorf.at
SUMMARY:Feuerwehrfest Anthering
DESCRIPTION:
URL:https://www.stadtkapelle-oberndorf.at/event/feuerwehrfest-anthering/
END:VEVENT
BEGIN:VEVENT
DTSTART;TZID=Europe/Berlin:20190610T000000
DTEND;TZID=Europe/Berlin:20190610T235900
DTSTAMP:20260423T065940
CREATED:20190125T200745Z
LAST-MODIFIED:20190403T173932Z
UID:79-1560124800-1560211140@www.stadtkapelle-oberndorf.at
SUMMARY:Floriani Göming
DESCRIPTION:
URL:https://www.stadtkapelle-oberndorf.at/event/floriani-goeming/
END:VEVENT
BEGIN:VEVENT
DTSTART;TZID=Europe/Berlin:20190615T000000
DTEND;TZID=Europe/Berlin:20190615T235900
DTSTAMP:20260423T065940
CREATED:20190125T200746Z
LAST-MODIFIED:20190403T174029Z
UID:81-1560556800-1560643140@www.stadtkapelle-oberndorf.at
SUMMARY:Musikfest Köstendorf
DESCRIPTION:
URL:https://www.stadtkapelle-oberndorf.at/event/musikfest-koestendorf/
END:VEVENT
BEGIN:VEVENT
DTSTART;TZID=Europe/Berlin:20190620T000000
DTEND;TZID=Europe/Berlin:20190620T235900
DTSTAMP:20260423T065940
CREATED:20190125T200746Z
LAST-MODIFIED:20190403T174058Z
UID:82-1560988800-1561075140@www.stadtkapelle-oberndorf.at
SUMMARY:Fronleichnam
DESCRIPTION:
URL:https://www.stadtkapelle-oberndorf.at/event/fronleichnam/
END:VEVENT
BEGIN:VEVENT
DTSTART;TZID=Europe/Berlin:20190622T000000
DTEND;TZID=Europe/Berlin:20190622T235900
DTSTAMP:20260423T065940
CREATED:20190125T200746Z
LAST-MODIFIED:20190403T174104Z
UID:83-1561161600-1561247940@www.stadtkapelle-oberndorf.at
SUMMARY:Musikfest Thundorf-Straß
DESCRIPTION:
URL:https://www.stadtkapelle-oberndorf.at/event/musikfest-thundorf-strass/
END:VEVENT
BEGIN:VEVENT
DTSTART;TZID=Europe/Berlin:20190629T000000
DTEND;TZID=Europe/Berlin:20190629T235900
DTSTAMP:20260423T065940
CREATED:20190125T200747Z
LAST-MODIFIED:20190403T174108Z
UID:84-1561766400-1561852740@www.stadtkapelle-oberndorf.at
SUMMARY:Parkfest
DESCRIPTION:
URL:https://www.stadtkapelle-oberndorf.at/event/parkfest/
LOCATION:Stadtpark Oberndorf
END:VEVENT
BEGIN:VEVENT
DTSTART;TZID=Europe/Berlin:20190630T000000
DTEND;TZID=Europe/Berlin:20190630T235900
DTSTAMP:20260423T065940
CREATED:20190125T200748Z
LAST-MODIFIED:20190403T174114Z
UID:85-1561852800-1561939140@www.stadtkapelle-oberndorf.at
SUMMARY:Parkfest
DESCRIPTION:
URL:https://www.stadtkapelle-oberndorf.at/event/parkfest-2/
LOCATION:Stadtpark Oberndorf
END:VEVENT
END:VCALENDAR