BEGIN:VCALENDAR
VERSION:2.0
PRODID:-//Stadtkapelle Oberndorf - ECPv6.15.13//NONSGML v1.0//EN
CALSCALE:GREGORIAN
METHOD:PUBLISH
X-WR-CALNAME:Stadtkapelle Oberndorf
X-ORIGINAL-URL:https://www.stadtkapelle-oberndorf.at
X-WR-CALDESC:Veranstaltungen für Stadtkapelle Oberndorf
REFRESH-INTERVAL;VALUE=DURATION:PT1H
X-Robots-Tag:noindex
X-PUBLISHED-TTL:PT1H
BEGIN:VTIMEZONE
TZID:Europe/Berlin
BEGIN:DAYLIGHT
TZOFFSETFROM:+0100
TZOFFSETTO:+0200
TZNAME:CEST
DTSTART:20180325T010000
END:DAYLIGHT
BEGIN:STANDARD
TZOFFSETFROM:+0200
TZOFFSETTO:+0100
TZNAME:CET
DTSTART:20181028T010000
END:STANDARD
BEGIN:DAYLIGHT
TZOFFSETFROM:+0100
TZOFFSETTO:+0200
TZNAME:CEST
DTSTART:20190331T010000
END:DAYLIGHT
BEGIN:STANDARD
TZOFFSETFROM:+0200
TZOFFSETTO:+0100
TZNAME:CET
DTSTART:20191027T010000
END:STANDARD
BEGIN:DAYLIGHT
TZOFFSETFROM:+0100
TZOFFSETTO:+0200
TZNAME:CEST
DTSTART:20200329T010000
END:DAYLIGHT
BEGIN:STANDARD
TZOFFSETFROM:+0200
TZOFFSETTO:+0100
TZNAME:CET
DTSTART:20201025T010000
END:STANDARD
END:VTIMEZONE
BEGIN:VEVENT
DTSTART;TZID=Europe/Berlin:20191108T000000
DTEND;TZID=Europe/Berlin:20191108T235900
DTSTAMP:20260423T000748
CREATED:20190125T200750Z
LAST-MODIFIED:20190403T174254Z
UID:92-1573171200-1573257540@www.stadtkapelle-oberndorf.at
SUMMARY:Kriegerjahrtag
DESCRIPTION:
URL:https://www.stadtkapelle-oberndorf.at/event/kriegerjahrtag/
LOCATION:Stadtpfarrkirche Oberndorf
END:VEVENT
BEGIN:VEVENT
DTSTART;TZID=Europe/Berlin:20191123T000000
DTEND;TZID=Europe/Berlin:20191123T235900
DTSTAMP:20260423T000748
CREATED:20190125T200750Z
LAST-MODIFIED:20190403T174307Z
UID:93-1574467200-1574553540@www.stadtkapelle-oberndorf.at
SUMMARY:Cäcilia und Generalversammlung
DESCRIPTION:
URL:https://www.stadtkapelle-oberndorf.at/event/caecilia-und-generalversammlung/
LOCATION:Stadtpfarrkirche Oberndorf
END:VEVENT
END:VCALENDAR