BEGIN:VCALENDAR
VERSION:2.0
PRODID:-//Stadtkapelle Oberndorf - ECPv6.15.13//NONSGML v1.0//EN
CALSCALE:GREGORIAN
METHOD:PUBLISH
X-ORIGINAL-URL:https://www.stadtkapelle-oberndorf.at
X-WR-CALDESC:Veranstaltungen für Stadtkapelle Oberndorf
REFRESH-INTERVAL;VALUE=DURATION:PT1H
X-Robots-Tag:noindex
X-PUBLISHED-TTL:PT1H
BEGIN:VTIMEZONE
TZID:Europe/Berlin
BEGIN:DAYLIGHT
TZOFFSETFROM:+0100
TZOFFSETTO:+0200
TZNAME:CEST
DTSTART:20200329T010000
END:DAYLIGHT
BEGIN:STANDARD
TZOFFSETFROM:+0200
TZOFFSETTO:+0100
TZNAME:CET
DTSTART:20201025T010000
END:STANDARD
BEGIN:DAYLIGHT
TZOFFSETFROM:+0100
TZOFFSETTO:+0200
TZNAME:CEST
DTSTART:20210328T010000
END:DAYLIGHT
BEGIN:STANDARD
TZOFFSETFROM:+0200
TZOFFSETTO:+0100
TZNAME:CET
DTSTART:20211031T010000
END:STANDARD
BEGIN:DAYLIGHT
TZOFFSETFROM:+0100
TZOFFSETTO:+0200
TZNAME:CEST
DTSTART:20220327T010000
END:DAYLIGHT
BEGIN:STANDARD
TZOFFSETFROM:+0200
TZOFFSETTO:+0100
TZNAME:CET
DTSTART:20221030T010000
END:STANDARD
END:VTIMEZONE
BEGIN:VEVENT
DTSTART;TZID=Europe/Berlin:20210905T000000
DTEND;TZID=Europe/Berlin:20210905T000000
DTSTAMP:20260419T143415
CREATED:20210209T191119Z
LAST-MODIFIED:20210209T191119Z
UID:1380-1630800000-1630800000@www.stadtkapelle-oberndorf.at
SUMMARY:Frühschoppen Feuerwehrfest Oberndorf
DESCRIPTION:
URL:https://www.stadtkapelle-oberndorf.at/event/fruehschoppen-feuerwehrfest-oberndorf-3/
END:VEVENT
BEGIN:VEVENT
DTSTART;TZID=Europe/Berlin:20210917T000000
DTEND;TZID=Europe/Berlin:20210917T000000
DTSTAMP:20260419T143415
CREATED:20210209T191119Z
LAST-MODIFIED:20210209T191438Z
UID:1381-1631836800-1631836800@www.stadtkapelle-oberndorf.at
SUMMARY:Platzkonzert Göming
DESCRIPTION:
URL:https://www.stadtkapelle-oberndorf.at/event/platzkonzert-gsming/
END:VEVENT
BEGIN:VEVENT
DTSTART;TZID=Europe/Berlin:20210919T000000
DTEND;TZID=Europe/Berlin:20210919T000000
DTSTAMP:20260419T143415
CREATED:20210209T191120Z
LAST-MODIFIED:20210209T191120Z
UID:1382-1632009600-1632009600@www.stadtkapelle-oberndorf.at
SUMMARY:Erntedank mit Pfarrfest
DESCRIPTION:
URL:https://www.stadtkapelle-oberndorf.at/event/erntedank-mit-pfarrfest-3/
END:VEVENT
BEGIN:VEVENT
DTSTART;VALUE=DATE:20210925
DTEND;VALUE=DATE:20210926
DTSTAMP:20260419T143415
CREATED:20210209T191108Z
LAST-MODIFIED:20210304T074134Z
UID:1369-1632528000-1632614399@www.stadtkapelle-oberndorf.at
SUMMARY:Floriani Oberndorf
DESCRIPTION:
URL:https://www.stadtkapelle-oberndorf.at/event/floriani-oberndorf-3/
END:VEVENT
END:VCALENDAR